BEGIN:VCALENDAR
VERSION:2.0
BEGIN:VEVENT
URL:https://tickets.oztix.com.au/outlet/event/34bc0948-74a1-4ea7-861a-1bd58154883d
DTSTART:20260522T083000Z
DTEND:20260522T083000Z
SUMMARY:WORLD GOTH DAY 2026
DESCRIPTION:Event details: https://tickets.oztix.com.au/outlet/event/34bc0948-74a1-4ea7-861a-1bd58154883d
LOCATION:Bergy Bandroom (Brunswick, VIC)
END:VEVENT
END:VCALENDAR