BEGIN:VCALENDAR
VERSION:2.0
BEGIN:VEVENT
URL:https://tickets.oztix.com.au/outlet/event/3294bd71-2ca7-483b-b6d7-756ad5faffb5
DTSTART:20260510T040000Z
DTEND:20260510T040000Z
SUMMARY:Paper Daisies
DESCRIPTION:Event details: https://tickets.oztix.com.au/outlet/event/3294bd71-2ca7-483b-b6d7-756ad5faffb5
LOCATION:Shotkickers (Thornbury, VIC)
END:VEVENT
END:VCALENDAR