BEGIN:VCALENDAR
VERSION:2.0
BEGIN:VEVENT
URL:https://tickets.oztix.com.au/outlet/event/2f5cec28-b01c-4860-b0d9-3e0191c0f004
DTSTART:20260429T080000Z
DTEND:20260429T080000Z
SUMMARY:Trivia night at Reggie - 29/04/26
DESCRIPTION:Event details: https://tickets.oztix.com.au/outlet/event/2f5cec28-b01c-4860-b0d9-3e0191c0f004
LOCATION:Reggie Bar (Launceston , TAS)
END:VEVENT
END:VCALENDAR