BEGIN:VCALENDAR
VERSION:2.0
BEGIN:VEVENT
URL:https://tickets.oztix.com.au/outlet/event/2f4a8091-dc6b-4f52-be40-aa63c71756fd
DTSTART:20261016T090000Z
DTEND:20261016T090000Z
SUMMARY:Alex LLoyd  - 25 Amazing Years Tour of Watching Angels Mend
DESCRIPTION:Event details: https://tickets.oztix.com.au/outlet/event/2f4a8091-dc6b-4f52-be40-aa63c71756fd
LOCATION:The SoundLounge (CURRUMBIN, QLD)
END:VEVENT
END:VCALENDAR