BEGIN:VCALENDAR
VERSION:2.0
BEGIN:VEVENT
URL:https://tickets.oztix.com.au/outlet/event/2ee55b58-f700-4c74-a83e-ecd6df5acd3f
DTSTART:20260423T093000Z
DTEND:20260423T093000Z
SUMMARY:Buddy's Comedy | Featuring Dan Rath
DESCRIPTION:Event details: https://tickets.oztix.com.au/outlet/event/2ee55b58-f700-4c74-a83e-ecd6df5acd3f
LOCATION:Buddy’s Bar Newtown (Newtown, NSW)
END:VEVENT
END:VCALENDAR