BEGIN:VCALENDAR
VERSION:2.0
BEGIN:VEVENT
URL:https://tickets.oztix.com.au/outlet/event/2e22b4bb-67d0-4b5c-96dc-824d4a454990
DTSTART:20260510T083000Z
DTEND:20260510T083000Z
SUMMARY:Ricky Albeck
DESCRIPTION:Event details: https://tickets.oztix.com.au/outlet/event/2e22b4bb-67d0-4b5c-96dc-824d4a454990
LOCATION:The Junk Bar (New Farm, QLD)
END:VEVENT
END:VCALENDAR