BEGIN:VCALENDAR
VERSION:2.0
BEGIN:VEVENT
URL:https://tickets.oztix.com.au/outlet/event/2e0bf25e-f1c8-485f-be5c-553ca451af93
DTSTART:20260531T040000Z
DTEND:20260531T040000Z
SUMMARY:DESERT FIRE / LEATHER BOUND POUNDS - DOUBLE LAUNCH
DESCRIPTION:Event details: https://tickets.oztix.com.au/outlet/event/2e0bf25e-f1c8-485f-be5c-553ca451af93
LOCATION:Shotkickers (Thornbury, VIC)
END:VEVENT
END:VCALENDAR