BEGIN:VCALENDAR
VERSION:2.0
BEGIN:VEVENT
URL:https://tickets.oztix.com.au/outlet/event/2d486c87-c0d8-456f-85ee-465444428a5e
DTSTART:20260828T090000Z
DTEND:20260828T090000Z
SUMMARY:Fleetwood Mac & Eagles by LandSlide - Mackay
DESCRIPTION:Event details: https://tickets.oztix.com.au/outlet/event/2d486c87-c0d8-456f-85ee-465444428a5e
LOCATION:McGuires Hotel (Mackay, QLD)
END:VEVENT
END:VCALENDAR