BEGIN:VCALENDAR
VERSION:2.0
BEGIN:VEVENT
URL:https://tickets.oztix.com.au/outlet/event/2cc58788-6836-4f7b-89ba-fc916907caac
DTSTART:20260910T090000Z
DTEND:20260910T090000Z
SUMMARY:Sienna Skies "Australian Spring Tour"
DESCRIPTION:Event details: https://tickets.oztix.com.au/outlet/event/2cc58788-6836-4f7b-89ba-fc916907caac
LOCATION:Jungle Duke Hotel (Wagga Wagga , NSW)
END:VEVENT
END:VCALENDAR