BEGIN:VCALENDAR
VERSION:2.0
BEGIN:VEVENT
URL:https://tickets.oztix.com.au/outlet/event/2c779628-8874-469a-b1e7-b8121b7ae29e
DTSTART:20260517T090000Z
DTEND:20260517T090000Z
SUMMARY:binsad 'pearl' the Album Tour
DESCRIPTION:Event details: https://tickets.oztix.com.au/outlet/event/2c779628-8874-469a-b1e7-b8121b7ae29e
LOCATION:The Tote - Upstairs (Collingwood, VIC)
END:VEVENT
END:VCALENDAR