BEGIN:VCALENDAR
VERSION:2.0
BEGIN:VEVENT
URL:https://tickets.oztix.com.au/outlet/event/2ae95303-a673-460b-9ce5-ceb7d60033c8
DTSTART:20260530T050000Z
DTEND:20260530T050000Z
SUMMARY:ARKFEST III
DESCRIPTION:Event details: https://tickets.oztix.com.au/outlet/event/2ae95303-a673-460b-9ce5-ceb7d60033c8
LOCATION:Sodens Hotel (Albury, NSW)
END:VEVENT
END:VCALENDAR