BEGIN:VCALENDAR
VERSION:2.0
BEGIN:VEVENT
URL:https://tickets.oztix.com.au/outlet/event/29fee6d3-34f0-4228-9acc-f3fa8cf54420
DTSTART:20260619T090000Z
DTEND:20260619T090000Z
SUMMARY:Dellacoma Rio performs BON JOVI
DESCRIPTION:Event details: https://tickets.oztix.com.au/outlet/event/29fee6d3-34f0-4228-9acc-f3fa8cf54420
LOCATION:Imperial Hotel Eumundi (Eumundi, QLD)
END:VEVENT
END:VCALENDAR