BEGIN:VCALENDAR
VERSION:2.0
BEGIN:VEVENT
URL:https://tickets.oztix.com.au/outlet/event/295ba526-523d-4219-becc-43ca20bb6720
DTSTART:20260506T000000Z
DTEND:20260506T000000Z
SUMMARY:Queensland Tourism Futures Mentee Famil Day
DESCRIPTION:Event details: https://tickets.oztix.com.au/outlet/event/295ba526-523d-4219-becc-43ca20bb6720
LOCATION:Brisbane Venue TBA (Brisbane, QLD)
END:VEVENT
END:VCALENDAR