BEGIN:VCALENDAR
VERSION:2.0
BEGIN:VEVENT
URL:https://tickets.oztix.com.au/outlet/event/2757b36d-9216-4316-ab43-4ca646b4a0ff
DTSTART:20260509T100000Z
DTEND:20260509T100000Z
SUMMARY:Steady Eddy: Return of the Stedi
DESCRIPTION:Event details: https://tickets.oztix.com.au/outlet/event/2757b36d-9216-4316-ab43-4ca646b4a0ff
LOCATION:Entrance Leagues Club (Bateau Bay, NSW)
END:VEVENT
END:VCALENDAR