BEGIN:VCALENDAR
VERSION:2.0
BEGIN:VEVENT
URL:https://tickets.oztix.com.au/outlet/event/2724a037-1fb6-4f06-bb5b-1b48ddac5446
DTSTART:20260523T090000Z
DTEND:20260523T090000Z
SUMMARY:BACKYARD BUSINESS + (Rivierra & Mary’s Hope) Dodges Ferry 23/26
DESCRIPTION:Event details: https://tickets.oztix.com.au/outlet/event/2724a037-1fb6-4f06-bb5b-1b48ddac5446
LOCATION:Dodges Ferry Hotel (Dodges Ferry, TAS)
END:VEVENT
END:VCALENDAR