BEGIN:VCALENDAR
VERSION:2.0
BEGIN:VEVENT
URL:https://tickets.oztix.com.au/outlet/event/2650d359-cc9c-4fce-b950-2f3ebffcb09e
DTSTART:20260609T013000Z
DTEND:20260609T013000Z
SUMMARY:World Environment Day Lunch
DESCRIPTION:Event details: https://tickets.oztix.com.au/outlet/event/2650d359-cc9c-4fce-b950-2f3ebffcb09e
LOCATION:Elysium Noosa Resort (Noosa Heads, QLD)
END:VEVENT
END:VCALENDAR