BEGIN:VCALENDAR
VERSION:2.0
BEGIN:VEVENT
URL:https://tickets.oztix.com.au/outlet/event/25434c3d-4d15-4e7a-b92e-66b9e582b22f
DTSTART:20260510T100000Z
DTEND:20260510T100000Z
SUMMARY:Emily-Rose & The Wild with Parvyn and Ofri
DESCRIPTION:Event details: https://tickets.oztix.com.au/outlet/event/25434c3d-4d15-4e7a-b92e-66b9e582b22f
LOCATION:Wesley Anne (Northcote, VIC)
END:VEVENT
END:VCALENDAR