BEGIN:VCALENDAR
VERSION:2.0
BEGIN:VEVENT
URL:https://tickets.oztix.com.au/outlet/event/253c7772-6a13-4da5-bedd-ac2824e84493
DTSTART:20260502T090000Z
DTEND:20260502T090000Z
SUMMARY:Snailgun - Glass Walls ALBUM LAUNCH
DESCRIPTION:Event details: https://tickets.oztix.com.au/outlet/event/253c7772-6a13-4da5-bedd-ac2824e84493
LOCATION:Cactus Room (Thornbury, VIC)
END:VEVENT
END:VCALENDAR