BEGIN:VCALENDAR
VERSION:2.0
BEGIN:VEVENT
URL:https://tickets.oztix.com.au/outlet/event/24fbeb6b-cc69-4976-a48b-657d7049edc6
DTSTART:20260711T093000Z
DTEND:20260711T093000Z
SUMMARY:Billy Joel Experience - Celebrating The Music of Billy Joel
DESCRIPTION:Event details: https://tickets.oztix.com.au/outlet/event/24fbeb6b-cc69-4976-a48b-657d7049edc6
LOCATION:Royal Quarters (Nundah, QLD)
END:VEVENT
END:VCALENDAR