BEGIN:VCALENDAR
VERSION:2.0
BEGIN:VEVENT
URL:https://tickets.oztix.com.au/outlet/event/249cb33b-fe14-4177-8ae7-1cd6de6772aa
DTSTART:20260501T093000Z
DTEND:20260501T093000Z
SUMMARY:Volatile Ways
DESCRIPTION:Event details: https://tickets.oztix.com.au/outlet/event/249cb33b-fe14-4177-8ae7-1cd6de6772aa
LOCATION:The Chippo Hotel (Chippendale, NSW)
END:VEVENT
END:VCALENDAR