BEGIN:VCALENDAR
VERSION:2.0
BEGIN:VEVENT
URL:https://tickets.oztix.com.au/outlet/event/23f5f436-501d-4d40-b9a3-a3a7c65bfcac
DTSTART:20260424T090000Z
DTEND:20260424T090000Z
SUMMARY:Fortnightly Trivia Night - 24/04/26
DESCRIPTION:Event details: https://tickets.oztix.com.au/outlet/event/23f5f436-501d-4d40-b9a3-a3a7c65bfcac
LOCATION:Sound Music Bar (Bendigo , VIC)
END:VEVENT
END:VCALENDAR