BEGIN:VCALENDAR
VERSION:2.0
BEGIN:VEVENT
URL:https://tickets.oztix.com.au/outlet/event/229eb389-48fb-4a88-be38-4f3e7272ebca
DTSTART:20260523T083000Z
DTEND:20260523T083000Z
SUMMARY:Willie J's 6v6s & One More Weekend
DESCRIPTION:Event details: https://tickets.oztix.com.au/outlet/event/229eb389-48fb-4a88-be38-4f3e7272ebca
LOCATION:Hepburn Palais (Hepburn Springs, VIC)
END:VEVENT
END:VCALENDAR