BEGIN:VCALENDAR
VERSION:2.0
BEGIN:VEVENT
URL:https://tickets.oztix.com.au/outlet/event/227a4ade-b666-474f-b993-78cc69126c12
DTSTART:20260612T090000Z
DTEND:20260612T090000Z
SUMMARY:Letters to Lions 'Breaking Bread' AUS Tour
DESCRIPTION:Event details: https://tickets.oztix.com.au/outlet/event/227a4ade-b666-474f-b993-78cc69126c12
LOCATION:Bergy Bandroom (Brunswick, VIC)
END:VEVENT
END:VCALENDAR