BEGIN:VCALENDAR
VERSION:2.0
BEGIN:VEVENT
URL:https://tickets.oztix.com.au/outlet/event/2257f8af-ca71-4712-a05d-f266e0af1938
DTSTART:20260604T090000Z
DTEND:20260604T090000Z
SUMMARY:TIAHN - ‘LiFe iS wEiRd’ EP Launch
DESCRIPTION:Event details: https://tickets.oztix.com.au/outlet/event/2257f8af-ca71-4712-a05d-f266e0af1938
LOCATION:Black Bear Lodge (Fortitude Valley, QLD)
END:VEVENT
END:VCALENDAR