BEGIN:VCALENDAR
VERSION:2.0
BEGIN:VEVENT
URL:https://tickets.oztix.com.au/outlet/event/21e807fa-5747-4bd1-abd7-8aac952a6b8a
DTSTART:20260503T040000Z
DTEND:20260503T040000Z
SUMMARY:The Sunday Session
DESCRIPTION:Event details: https://tickets.oztix.com.au/outlet/event/21e807fa-5747-4bd1-abd7-8aac952a6b8a
LOCATION:The Junk Bar (New Farm, QLD)
END:VEVENT
END:VCALENDAR