BEGIN:VCALENDAR
VERSION:2.0
BEGIN:VEVENT
URL:https://tickets.oztix.com.au/outlet/event/21dc0e51-e234-4e2b-b461-bc811e7a513b
DTSTART:20260520T090000Z
DTEND:20260520T090000Z
SUMMARY:A Night in With Squibs
DESCRIPTION:Event details: https://tickets.oztix.com.au/outlet/event/21dc0e51-e234-4e2b-b461-bc811e7a513b
LOCATION:Black Bear Lodge (Fortitude Valley, QLD)
END:VEVENT
END:VCALENDAR