BEGIN:VCALENDAR
VERSION:2.0
BEGIN:VEVENT
URL:https://tickets.oztix.com.au/outlet/event/21a294d7-e942-47db-a111-069ee140e2ea
DTSTART:20261205T070000Z
DTEND:20261205T070000Z
SUMMARY:Magic Men Sydney
DESCRIPTION:Event details: https://tickets.oztix.com.au/outlet/event/21a294d7-e942-47db-a111-069ee140e2ea
LOCATION:Shark Hotel (Sydney , NSW)
END:VEVENT
END:VCALENDAR