BEGIN:VCALENDAR
VERSION:2.0
BEGIN:VEVENT
URL:https://tickets.oztix.com.au/outlet/event/215b8e4a-45d8-4ed1-b712-a0c670b87c1e
DTSTART:20260524T033000Z
DTEND:20260524T033000Z
SUMMARY:Frankie Venter | ALL AGES
DESCRIPTION:Event details: https://tickets.oztix.com.au/outlet/event/215b8e4a-45d8-4ed1-b712-a0c670b87c1e
LOCATION:Espy Basement (St Kilda, VIC)
END:VEVENT
END:VCALENDAR