BEGIN:VCALENDAR
VERSION:2.0
BEGIN:VEVENT
URL:https://tickets.oztix.com.au/outlet/event/20f3ae93-02b8-4a63-a070-85e7cffededf
DTSTART:20260528T083000Z
DTEND:20260528T083000Z
SUMMARY:Tawa Drive "mountains" Single Launch
DESCRIPTION:Event details: https://tickets.oztix.com.au/outlet/event/20f3ae93-02b8-4a63-a070-85e7cffededf
LOCATION:The Junk Bar (New Farm, QLD)
END:VEVENT
END:VCALENDAR