BEGIN:VCALENDAR
VERSION:2.0
BEGIN:VEVENT
URL:https://tickets.oztix.com.au/outlet/event/20c639ea-cdc8-4484-86b5-dc576dfdcca0
DTSTART:20260516T103000Z
DTEND:20260516T103000Z
SUMMARY:Big Smoke
DESCRIPTION:Event details: https://tickets.oztix.com.au/outlet/event/20c639ea-cdc8-4484-86b5-dc576dfdcca0
LOCATION:The Gov - The Gibson Stage (Hindmarsh, SA)
END:VEVENT
END:VCALENDAR