BEGIN:VCALENDAR
VERSION:2.0
BEGIN:VEVENT
URL:https://tickets.oztix.com.au/outlet/event/20aacf9d-49c2-490e-bcc9-18c24e4e173b
DTSTART:20260613T100000Z
DTEND:20260613T100000Z
SUMMARY:The Motion Below - A Final Exhibition
DESCRIPTION:Event details: https://tickets.oztix.com.au/outlet/event/20aacf9d-49c2-490e-bcc9-18c24e4e173b
LOCATION:Bergy Bandroom (Brunswick, VIC)
END:VEVENT
END:VCALENDAR