BEGIN:VCALENDAR
VERSION:2.0
BEGIN:VEVENT
URL:https://tickets.oztix.com.au/outlet/event/20769485-a359-475b-8b54-b5e00462e80c
DTSTART:20260425T080000Z
DTEND:20260425T080000Z
SUMMARY:Sweet 16 Carpark Party
DESCRIPTION:Event details: https://tickets.oztix.com.au/outlet/event/20769485-a359-475b-8b54-b5e00462e80c
LOCATION:The Bird (Northbridge, Perth, WA)
END:VEVENT
END:VCALENDAR