BEGIN:VCALENDAR
VERSION:2.0
BEGIN:VEVENT
URL:https://tickets.oztix.com.au/outlet/event/1fb33295-c544-4ffb-9e10-f63b8d7b1404
DTSTART:20260712T010000Z
DTEND:20260712T010000Z
SUMMARY:King Street Crawl 2026
DESCRIPTION:Event details: https://tickets.oztix.com.au/outlet/event/1fb33295-c544-4ffb-9e10-f63b8d7b1404
LOCATION:King Street Crawl (Newtown, NSW)
END:VEVENT
END:VCALENDAR