BEGIN:VCALENDAR
VERSION:2.0
BEGIN:VEVENT
URL:https://tickets.oztix.com.au/outlet/event/1f69f856-dcd0-4c20-835c-c9be1944c954
DTSTART:20260425T090000Z
DTEND:20260425T090000Z
SUMMARY:HIGH VOLTAGE (The AC/DC Show)
DESCRIPTION:Event details: https://tickets.oztix.com.au/outlet/event/1f69f856-dcd0-4c20-835c-c9be1944c954
LOCATION:The Seabreeze Hotel - The Pacific Room (Lamberts Beach, QLD)
END:VEVENT
END:VCALENDAR