BEGIN:VCALENDAR
VERSION:2.0
BEGIN:VEVENT
URL:https://tickets.oztix.com.au/outlet/event/1f0c3c16-e1dd-4ddd-ba00-9d26ee92095a
DTSTART:20260522T090000Z
DTEND:20260522T090000Z
SUMMARY:Varuni Lila ‘AIR IT OUT’ Album Launch
DESCRIPTION:Event details: https://tickets.oztix.com.au/outlet/event/1f0c3c16-e1dd-4ddd-ba00-9d26ee92095a
LOCATION:Barwon Club Hotel (South Geelong, VIC)
END:VEVENT
END:VCALENDAR