BEGIN:VCALENDAR
VERSION:2.0
BEGIN:VEVENT
URL:https://tickets.oztix.com.au/outlet/event/1eee28e4-1a6c-439d-b12d-fde42088c5fc
DTSTART:20260612T100000Z
DTEND:20260612T100000Z
SUMMARY:Cosmic Psychos - I REALLY LOVE BEER Tour
DESCRIPTION:Event details: https://tickets.oztix.com.au/outlet/event/1eee28e4-1a6c-439d-b12d-fde42088c5fc
LOCATION:Ed Castle Hotel (Adelaide, SA)
END:VEVENT
END:VCALENDAR