BEGIN:VCALENDAR
VERSION:2.0
BEGIN:VEVENT
URL:https://tickets.oztix.com.au/outlet/event/1e7d8c3c-43e0-4041-bf3b-be3c8f9b134c
DTSTART:20260516T120000Z
DTEND:20260516T120000Z
SUMMARY:About Yesterday
DESCRIPTION:Event details: https://tickets.oztix.com.au/outlet/event/1e7d8c3c-43e0-4041-bf3b-be3c8f9b134c
LOCATION:Four5Nine Bar (North Perth, WA)
END:VEVENT
END:VCALENDAR