BEGIN:VCALENDAR
VERSION:2.0
BEGIN:VEVENT
URL:https://tickets.oztix.com.au/outlet/event/1e6a1396-2191-4d99-a572-c9476d861966
DTSTART:20260527T070000Z
DTEND:20260527T070000Z
SUMMARY:State Of Origin - Game 1
DESCRIPTION:Event details: https://tickets.oztix.com.au/outlet/event/1e6a1396-2191-4d99-a572-c9476d861966
LOCATION:Blute's Bar (Fortitude Valley, QLD)
END:VEVENT
END:VCALENDAR