BEGIN:VCALENDAR
VERSION:2.0
BEGIN:VEVENT
URL:https://tickets.oztix.com.au/outlet/event/1e299c54-cb2d-44ba-8517-8f683dbd91b8
DTSTART:20260508T100000Z
DTEND:20260508T100000Z
SUMMARY:LegMouth 'Nothing' Single Launch
DESCRIPTION:Event details: https://tickets.oztix.com.au/outlet/event/1e299c54-cb2d-44ba-8517-8f683dbd91b8
LOCATION:The Workers Club (Fitzroy, VIC)
END:VEVENT
END:VCALENDAR