BEGIN:VCALENDAR
VERSION:2.0
BEGIN:VEVENT
URL:https://tickets.oztix.com.au/outlet/event/1dafa34d-ff44-4330-a1bc-5ec5f971db09
DTSTART:20260717T000000Z
DTEND:20260719T020000Z
SUMMARY:Paradise Country
DESCRIPTION:Event details: https://tickets.oztix.com.au/outlet/event/1dafa34d-ff44-4330-a1bc-5ec5f971db09
LOCATION:Cape Gloucester Resort (Cape Gloucester, QLD)
END:VEVENT
END:VCALENDAR