BEGIN:VCALENDAR
VERSION:2.0
BEGIN:VEVENT
URL:https://tickets.oztix.com.au/outlet/event/1cdae55e-147e-4714-97c4-b3e5321e67d2
DTSTART:20260508T090000Z
DTEND:20260508T090000Z
SUMMARY:The Girlies with Jupiter 5 & The Stallers at MoshPit Bar
DESCRIPTION:Event details: https://tickets.oztix.com.au/outlet/event/1cdae55e-147e-4714-97c4-b3e5321e67d2
LOCATION:MoshPit (Erskineville, NSW)
END:VEVENT
END:VCALENDAR