BEGIN:VCALENDAR
VERSION:2.0
BEGIN:VEVENT
URL:https://tickets.oztix.com.au/outlet/event/1bbed727-dca2-4723-a9bc-dff54a5ddefd
DTSTART:20260516T100000Z
DTEND:20260516T100000Z
SUMMARY:Ozone Street - 'The Jam Files' EP Launch
DESCRIPTION:Event details: https://tickets.oztix.com.au/outlet/event/1bbed727-dca2-4723-a9bc-dff54a5ddefd
LOCATION:Cactus Room (Thornbury, VIC)
END:VEVENT
END:VCALENDAR