BEGIN:VCALENDAR
VERSION:2.0
BEGIN:VEVENT
URL:https://tickets.oztix.com.au/outlet/event/1b510323-21a7-4042-b156-e5eece328b40
DTSTART:20261025T090000Z
DTEND:20261025T090000Z
SUMMARY:Alex Lloyd
DESCRIPTION:Event details: https://tickets.oztix.com.au/outlet/event/1b510323-21a7-4042-b156-e5eece328b40
LOCATION:The Gov - The Venue (Hindmarsh, SA)
END:VEVENT
END:VCALENDAR