BEGIN:VCALENDAR
VERSION:2.0
BEGIN:VEVENT
URL:https://tickets.oztix.com.au/outlet/event/1b218e71-b388-4c87-9fa6-300af788cf26
DTSTART:20260424T090000Z
DTEND:20260424T090000Z
SUMMARY:The Wet Whistles -  Life on the Road
DESCRIPTION:Event details: https://tickets.oztix.com.au/outlet/event/1b218e71-b388-4c87-9fa6-300af788cf26
LOCATION:Crowbar Brisbane (Fortitude Valley, QLD)
END:VEVENT
END:VCALENDAR