BEGIN:VCALENDAR
VERSION:2.0
BEGIN:VEVENT
URL:https://tickets.oztix.com.au/outlet/event/1a3e1f3f-0b79-453e-8d43-53160d842c92
DTSTART:20260523T040000Z
DTEND:20260523T040000Z
SUMMARY:Badinage - ‘Banter' album launch
DESCRIPTION:Event details: https://tickets.oztix.com.au/outlet/event/1a3e1f3f-0b79-453e-8d43-53160d842c92
LOCATION:Bergy Bandroom (Brunswick, VIC)
END:VEVENT
END:VCALENDAR