BEGIN:VCALENDAR
VERSION:2.0
BEGIN:VEVENT
URL:https://tickets.oztix.com.au/outlet/event/19c983e9-3927-416e-8d7c-098a45b45688
DTSTART:20260730T090000Z
DTEND:20260730T090000Z
SUMMARY:Alex Mather - Welcome to the Party Tour
DESCRIPTION:Event details: https://tickets.oztix.com.au/outlet/event/19c983e9-3927-416e-8d7c-098a45b45688
LOCATION:Wallaby Hotel (Mudgeeraba, QLD)
END:VEVENT
END:VCALENDAR