BEGIN:VCALENDAR
VERSION:2.0
BEGIN:VEVENT
URL:https://tickets.oztix.com.au/outlet/event/18efa18e-8686-4914-bf64-6bdc1bd38a22
DTSTART:20260919T100000Z
DTEND:20260919T100000Z
SUMMARY:Beccy Cole - Through The Haze Tour
DESCRIPTION:Event details: https://tickets.oztix.com.au/outlet/event/18efa18e-8686-4914-bf64-6bdc1bd38a22
LOCATION:Racehorse Hotel (Booval, QLD)
END:VEVENT
END:VCALENDAR