BEGIN:VCALENDAR
VERSION:2.0
BEGIN:VEVENT
URL:https://tickets.oztix.com.au/outlet/event/18b5e0ef-d6c1-480f-af34-e21112d4fdba
DTSTART:20260718T080000Z
DTEND:20260718T080000Z
SUMMARY:Magic Men Brisbane
DESCRIPTION:Event details: https://tickets.oztix.com.au/outlet/event/18b5e0ef-d6c1-480f-af34-e21112d4fdba
LOCATION:Wonderland (Fortitude Valley, QLD)
END:VEVENT
END:VCALENDAR