BEGIN:VCALENDAR
VERSION:2.0
BEGIN:VEVENT
URL:https://tickets.oztix.com.au/outlet/event/1871a010-ab1d-4fad-bae6-e438ffb672cf
DTSTART:20260627T030000Z
DTEND:20260627T030000Z
SUMMARY:OUTRA & FRIENDS
DESCRIPTION:Event details: https://tickets.oztix.com.au/outlet/event/1871a010-ab1d-4fad-bae6-e438ffb672cf
LOCATION:The Brightside (Outdoors) (Fortitude Valley, QLD)
END:VEVENT
END:VCALENDAR