BEGIN:VCALENDAR
VERSION:2.0
BEGIN:VEVENT
URL:https://tickets.oztix.com.au/outlet/event/1825feae-a298-4848-a860-c5a9825117b3
DTSTART:20260504T100000Z
DTEND:20260504T100000Z
SUMMARY:Hospo Hoedown: 4th May 2026
DESCRIPTION:Event details: https://tickets.oztix.com.au/outlet/event/1825feae-a298-4848-a860-c5a9825117b3
LOCATION:The Court Hotel (Perth, WA)
END:VEVENT
END:VCALENDAR